BEGIN:VCALENDAR
VERSION:2.0
PRODID:-//Central Alberta Humane Society - ECPv6.15.20//NONSGML v1.0//EN
CALSCALE:GREGORIAN
METHOD:PUBLISH
X-WR-CALNAME:Central Alberta Humane Society
X-ORIGINAL-URL:https://cahumane.com
X-WR-CALDESC:Events for Central Alberta Humane Society
REFRESH-INTERVAL;VALUE=DURATION:PT1H
X-Robots-Tag:noindex
X-PUBLISHED-TTL:PT1H
BEGIN:VTIMEZONE
TZID:America/Edmonton
BEGIN:DAYLIGHT
TZOFFSETFROM:-0700
TZOFFSETTO:-0600
TZNAME:MDT
DTSTART:20240310T090000
END:DAYLIGHT
BEGIN:STANDARD
TZOFFSETFROM:-0600
TZOFFSETTO:-0700
TZNAME:MST
DTSTART:20241103T080000
END:STANDARD
BEGIN:DAYLIGHT
TZOFFSETFROM:-0700
TZOFFSETTO:-0600
TZNAME:MDT
DTSTART:20250309T090000
END:DAYLIGHT
BEGIN:STANDARD
TZOFFSETFROM:-0600
TZOFFSETTO:-0700
TZNAME:MST
DTSTART:20251102T080000
END:STANDARD
BEGIN:DAYLIGHT
TZOFFSETFROM:-0700
TZOFFSETTO:-0600
TZNAME:MDT
DTSTART:20260308T090000
END:DAYLIGHT
BEGIN:STANDARD
TZOFFSETFROM:-0600
TZOFFSETTO:-0700
TZNAME:MST
DTSTART:20261101T080000
END:STANDARD
END:VTIMEZONE
BEGIN:VEVENT
DTSTART;TZID=America/Edmonton:20250727T100000
DTEND;TZID=America/Edmonton:20250727T150000
DTSTAMP:20260423T085342
CREATED:20250615T062040Z
LAST-MODIFIED:20250615T063453Z
UID:47341-1753610400-1753628400@cahumane.com
SUMMARY:Final DAY for the Ultimate Garage Sale
DESCRIPTION:🛍 Sunday\, July 27 – 50% off everything!\nThe deals keep rolling at Day 3 of our Ultimate Garage Sale – and 50% off everything to help us clear out the treasures! \n🗓 Date: Sunday\, July 27🕙 Time: 10:00 AM – 3:00 PM📍 Location: St. Joseph High School\, Red Deer💳 Cash\, debit & credit accepted \nExplore thousands of gently loved items and unbeatable bargains\, with all proceeds supporting the animals in care at the Central Alberta Humane Society. \n🎟 Don’t Forget: 50/50 Tickets On Sale!\nGrab your cash raffle tickets – the big draw happens Sunday afternoon. You could be the lucky winner while helping animals in need! \n🍦 Sweet Treat Alert!\nThe Red Deer Food Bank Ice Cream Truck will be stopping by to keep your shopping day cool and delicious. \n🐾 CA Humane Merchandise\nShow your support proudly – pick up some of our official merch while you shop! \nWhether you’re thrifting for treasures or just popping in to say hi\, every visit makes a difference.
URL:https://cahumane.com/event/final-day-for-the-ultimate-garage-sale/
LOCATION:St. Joseph High School\, 2700 - 67 Street\, Red Deer\, AB\, Canada
CATEGORIES:Fundraisers,Public
ATTACH;FMTTYPE=image/png:https://cahumane.com/wp-content/uploads/2025/06/July-27WS-1.png
ORGANIZER;CN="Amber Nielsen | Volunteer Coordinator":MAILTO:volunteer@cahumane.com
END:VEVENT
END:VCALENDAR