BEGIN:VCALENDAR
VERSION:2.0
PRODID:-//Central Alberta Humane Society - ECPv6.15.20//NONSGML v1.0//EN
CALSCALE:GREGORIAN
METHOD:PUBLISH
X-ORIGINAL-URL:https://cahumane.com
X-WR-CALDESC:Events for Central Alberta Humane Society
REFRESH-INTERVAL;VALUE=DURATION:PT1H
X-Robots-Tag:noindex
X-PUBLISHED-TTL:PT1H
BEGIN:VTIMEZONE
TZID:America/Edmonton
BEGIN:DAYLIGHT
TZOFFSETFROM:-0700
TZOFFSETTO:-0600
TZNAME:MDT
DTSTART:20240310T090000
END:DAYLIGHT
BEGIN:STANDARD
TZOFFSETFROM:-0600
TZOFFSETTO:-0700
TZNAME:MST
DTSTART:20241103T080000
END:STANDARD
BEGIN:DAYLIGHT
TZOFFSETFROM:-0700
TZOFFSETTO:-0600
TZNAME:MDT
DTSTART:20250309T090000
END:DAYLIGHT
BEGIN:STANDARD
TZOFFSETFROM:-0600
TZOFFSETTO:-0700
TZNAME:MST
DTSTART:20251102T080000
END:STANDARD
BEGIN:DAYLIGHT
TZOFFSETFROM:-0700
TZOFFSETTO:-0600
TZNAME:MDT
DTSTART:20260308T090000
END:DAYLIGHT
BEGIN:STANDARD
TZOFFSETFROM:-0600
TZOFFSETTO:-0700
TZNAME:MST
DTSTART:20261101T080000
END:STANDARD
END:VTIMEZONE
BEGIN:VEVENT
DTSTART;TZID=America/Edmonton:20250725T100000
DTEND;TZID=America/Edmonton:20250725T190000
DTSTAMP:20260423T144022
CREATED:20250615T060714Z
LAST-MODIFIED:20250627T234622Z
UID:47335-1753437600-1753470000@cahumane.com
SUMMARY:Ultimate Garage Sale Kickoff Day!
DESCRIPTION:🎉 Friday\, July 25 – Ultimate Garage Sale Kickoff Day!\nWe’re open and ready to welcome you to the first public day of our Ultimate Garage Sale – and it’s going to be a big one! \n🛍 Hours: 10:00 AM – 7:00 PM📍 Location: St. Joseph High School\, Red Deer 💳 Cash\, debit & credit accepted \nCome early for the best selection — or swing by after work too! We’re open late so you can shop and support CA Humane. \n🌭 BBQ Lunch by Donation – 11:30 AM to 1:30 PM\nHuge thanks to Central Alberta Co-op for generously sponsoring our Garage Sale BBQ! Grab a delicious lunch while you browse — all by donation\, and all in support of animals in need. \n💰 50/50 Cash Raffle\nWe’ll also be selling 50/50 tickets all weekend long! Be sure to grab yours — the draw takes place Sunday afternoon. \n🍦 Ice Cream Truck Visit\nLook out for the Red Deer Food Bank Ice Cream Truck – stopping by this weekend to keep things cool and sweet! \n🐾 CA Humane Merchandise\nShow your support in style – we’ll have official CA Humane merch available all weekend! \nEvery purchase\, lunch\, and raffle ticket helps give homeless animals a second chance at love and safety. Come out and be part of something pawsome! \nWe are so happy to have CO-OP support our Ultimate Garage sale by hosting a BBQ lunch on Friday!\nTHANK YOU so VERY much!!
URL:https://cahumane.com/event/ultimate-garage-sale-kickoff-day/
LOCATION:St. Joseph High School\, 2700 - 67 Street\, Red Deer\, AB\, Canada
CATEGORIES:Fundraisers,Public
ATTACH;FMTTYPE=image/png:https://cahumane.com/wp-content/uploads/2025/06/July-25-website.png
ORGANIZER;CN="Kelly Richard | Fund Development Coordinator":MAILTO:development@cahumane.com
END:VEVENT
END:VCALENDAR