BEGIN:VCALENDAR
VERSION:2.0
PRODID:-//Central Alberta Humane Society - ECPv6.15.20//NONSGML v1.0//EN
CALSCALE:GREGORIAN
METHOD:PUBLISH
X-WR-CALNAME:Central Alberta Humane Society
X-ORIGINAL-URL:https://cahumane.com
X-WR-CALDESC:Events for Central Alberta Humane Society
REFRESH-INTERVAL;VALUE=DURATION:PT1H
X-Robots-Tag:noindex
X-PUBLISHED-TTL:PT1H
BEGIN:VTIMEZONE
TZID:America/Edmonton
BEGIN:DAYLIGHT
TZOFFSETFROM:-0700
TZOFFSETTO:-0600
TZNAME:MDT
DTSTART:20240310T090000
END:DAYLIGHT
BEGIN:STANDARD
TZOFFSETFROM:-0600
TZOFFSETTO:-0700
TZNAME:MST
DTSTART:20241103T080000
END:STANDARD
BEGIN:DAYLIGHT
TZOFFSETFROM:-0700
TZOFFSETTO:-0600
TZNAME:MDT
DTSTART:20250309T090000
END:DAYLIGHT
BEGIN:STANDARD
TZOFFSETFROM:-0600
TZOFFSETTO:-0700
TZNAME:MST
DTSTART:20251102T080000
END:STANDARD
BEGIN:DAYLIGHT
TZOFFSETFROM:-0700
TZOFFSETTO:-0600
TZNAME:MDT
DTSTART:20260308T090000
END:DAYLIGHT
BEGIN:STANDARD
TZOFFSETFROM:-0600
TZOFFSETTO:-0700
TZNAME:MST
DTSTART:20261101T080000
END:STANDARD
END:VTIMEZONE
BEGIN:VEVENT
DTSTART;TZID=America/Edmonton:20250825T080000
DTEND;TZID=America/Edmonton:20251219T170000
DTSTAMP:20260419T130925
CREATED:20250825T214527Z
LAST-MODIFIED:20251215T231645Z
UID:47825-1756108800-1766163600@cahumane.com
SUMMARY:Blackstone Griddle Raffle Winner - Marj
DESCRIPTION:🔥 Blackstone Griddle Raffle\nWe SOLD all of the Tickets and did the Draw! \nThe Winner is Marj ~ ticket # 353 Congratulations!! \nThank you to everyone who entered – every ticket sold helps the animals in our care!! \nWe’re raffling off a Blackstone Griddle Cooking Station – perfect for summer BBQs\, family gatherings\, and outdoor feasts. Don’t miss your chance to bring home this game-changing grill! \n🎟️ Tickets: $5 each📅 Draw Date: December 19\, unless we sell out earlier!📍 Where: Central Alberta Humane Society \n\n💖 Why Your Raffle Ticket Matters\nWhen you enter a raffle\, you’re not just getting a chance to win an amazing prize ~ you’re directly helping animals in need. Every ticket purchased provides: \n🐾 Safe shelter for homeless pets until they find their forever families \n🩺 Veterinary care and life-saving medical treatments \n🍲 Nutritious food and daily enrichment \n💕 Support for community programs like our emergency food bank \nYour ticket truly makes a difference in the lives of vulnerable animals across Central Alberta. \n\n🔥 Imagine flipping burgers\, sizzling veggies\, and cooking like a pro – all while giving animals the second chance they deserve! \n👉 Get your tickets today before they sell out! Available at our front desk ~ in shelter ~ Tuesday to Saturday 11am to 6pm
URL:https://cahumane.com/event/blackstone-griddle-raffle/
LOCATION:Central Alberta Humane Society\, 4505 77 Street\, Red Deer\, Alberta\, T4P 2J1\, Canada
CATEGORIES:Fundraisers
ATTACH;FMTTYPE=image/png:https://cahumane.com/wp-content/uploads/2025/08/2025-Website-Event-5.png
ORGANIZER;CN="Kelly Richard | Fund Development Coordinator":MAILTO:development@cahumane.com
END:VEVENT
BEGIN:VEVENT
DTSTART;TZID=America/Edmonton:20251129T120000
DTEND;TZID=America/Edmonton:20251206T150000
DTSTAMP:20260419T130925
CREATED:20251030T170510Z
LAST-MODIFIED:20251030T171044Z
UID:48283-1764417600-1765033200@cahumane.com
SUMMARY:Sofia's Tour of 130 Christmas Trees
DESCRIPTION:November 29th & 30th : 12 – 3 pm \nDecember 6th : 12 – 3 pm \n42 Comfort Close\, Red Deer \n  \nGet ready to immerse yourself in the enchanting Christmas atmosphere at the Red Deer House of 100+ Trees! Vince and Tom warmly invite you to experience a festive spectacle featuring over 130 beautifully adorned Christmas trees. This annual tradition not only spreads joy and holiday cheer but also serves a noble cause – supporting the Central Alberta Humane Society. \n  \nVince and Tom’s holiday extravaganza began as a heartfelt initiative to raise funds and awareness for the Humane Society. However\, it took on a deeper meaning when they rescued Sofia\, their beloved chihuahua\, whose legacy has become the driving force behind the Christmas tree tour. \n  \n“Sofia’s 130 Christmas Tree Tour” was born in 2017 in memory of the couple’s cherished chihuahua\, Sofia. Jackman\, one of the organizers\, shared the endearing memory of Sofia always finding solace under the twinkling Christmas trees\, nestled on festive mats. Her spirit lives on through this magical event\, inspiring a festive celebration of love\, compassion\, and community. \n  \nEvery Christmas\, the couple opens their home to the public\, transforming it into a winter wonderland where each tree tells a unique story. The tour aims not only to create a magical holiday experience but also to draw attention to the importance of finding forever homes for furry friends around the world. \n  \nAs we strive to make Christmas special for our local shelter in Central Alberta\, your support becomes crucial. Fur babies everywhere dream of a forever home where they can be cherished and feel like part of a loving family. By participating in this heartwarming event\, you contribute to creating a joyful holiday season for these deserving animals. \n  \nIf you’re eager to join the festivities\, simply send a message to vincetom@hotmail.com to give details on the date and time you wish to visit. Upon arrival\, follow the holiday spirit to the side door on the garage\, where the magic of the season awaits. \n  \nCome and be a part of “Sofia’s 130 Christmas Tree Tour” – an unforgettable celebration of love\, joy\, and the true spirit of giving. \n  \nPlease give a donation or bring an item that the CA Humane needs:*Treats for dogs and cats \n*Bully sticks and greenies \n *Tough dog toys \n *Nylabones interactive \n *Slow feeders for dogs \n*Walmart gift card  \n*Rona & Canadian Tire gift card  \n*Windex and floor cleaners  \n*Paper towel  \n*New brooms  \n*Used towels and blankets*Medi-Cal Wet or Dry food  \n*Cat it senses products  \n*Canned food\, Dog or cat 
URL:https://cahumane.com/event/sofias-tour-of-130-christmas-trees-2025/
LOCATION:Christmas Tree Tour\, 42 Comfort Close\, Red Deer\, Alberta\, Canada
CATEGORIES:3rd Party,Fundraisers
ATTACH;FMTTYPE=image/png:https://cahumane.com/wp-content/uploads/2025/10/Sofias-Tour-of-130-Christmas-Trees.png
ORGANIZER;CN="Lindsay Boyce | Community Programs":MAILTO:programs@cahumane.com
END:VEVENT
END:VCALENDAR