BEGIN:VCALENDAR
VERSION:2.0
PRODID:-//Central Alberta Humane Society - ECPv6.15.20//NONSGML v1.0//EN
CALSCALE:GREGORIAN
METHOD:PUBLISH
X-WR-CALNAME:Central Alberta Humane Society
X-ORIGINAL-URL:https://cahumane.com
X-WR-CALDESC:Events for Central Alberta Humane Society
REFRESH-INTERVAL;VALUE=DURATION:PT1H
X-Robots-Tag:noindex
X-PUBLISHED-TTL:PT1H
BEGIN:VTIMEZONE
TZID:America/Edmonton
BEGIN:DAYLIGHT
TZOFFSETFROM:-0700
TZOFFSETTO:-0600
TZNAME:MDT
DTSTART:20230312T090000
END:DAYLIGHT
BEGIN:STANDARD
TZOFFSETFROM:-0600
TZOFFSETTO:-0700
TZNAME:MST
DTSTART:20231105T080000
END:STANDARD
BEGIN:DAYLIGHT
TZOFFSETFROM:-0700
TZOFFSETTO:-0600
TZNAME:MDT
DTSTART:20240310T090000
END:DAYLIGHT
BEGIN:STANDARD
TZOFFSETFROM:-0600
TZOFFSETTO:-0700
TZNAME:MST
DTSTART:20241103T080000
END:STANDARD
BEGIN:DAYLIGHT
TZOFFSETFROM:-0700
TZOFFSETTO:-0600
TZNAME:MDT
DTSTART:20250309T090000
END:DAYLIGHT
BEGIN:STANDARD
TZOFFSETFROM:-0600
TZOFFSETTO:-0700
TZNAME:MST
DTSTART:20251102T080000
END:STANDARD
END:VTIMEZONE
BEGIN:VEVENT
DTSTART;VALUE=DATE:20240220
DTEND;VALUE=DATE:20240225
DTSTAMP:20260422T063748
CREATED:20240213T202638Z
LAST-MODIFIED:20240213T203748Z
UID:40992-1708387200-1708819199@cahumane.com
SUMMARY:Babycakes Cupcakery - Featured Cupcake
DESCRIPTION:Visit Babycakes Cupcakery at 7 Chambers Ave\, #140 from February 20th-24th to purchase a Bananas Foster cupcake in support of animals in care here at CA Humane!
URL:https://cahumane.com/event/babycakes/
LOCATION:babycakes cupcakery\, 140\, 7 Chambers Avenue\, Red Deer\, Alberta\, T4P 0G7
CATEGORIES:Fundraisers
ATTACH;FMTTYPE=image/png:https://cahumane.com/wp-content/uploads/2024/02/Babycakes-Banana-Foster-2.png
ORGANIZER;CN="Lindsay Boyce | Community Programs":MAILTO:programs@cahumane.com
END:VEVENT
END:VCALENDAR